BEGIN:VCALENDAR
VERSION:2.0
PRODID:-//demosphere.net//NONSGML kigkonsult.se iCalcreator 2.22.1//
METHOD:REQUEST
X-WR-TIMEZONE:Europe/Athens
BEGIN:VEVENT
UID:https://www.kinimatorama.net/event/102272
DTSTAMP:20181111T093000Z
DESCRIPTION:περισσότερες πληροφορίες: https://www.kinimatorama.net/event/10
 2272 
DTSTART:20181111T093000Z
DTEND:20181111T103000Z
GEO:+38.151803;+21.419241
LOCATION:Άραξος\, \nαεροπορική βάση Άραξου
SUMMARY:Διεθνιστική-αντιπολεμική διαδήλωση στην αεροπορική βάση Αράξου
URL:https://www.kinimatorama.net/event/102272
END:VEVENT
END:VCALENDAR
