BEGIN:VCALENDAR
VERSION:2.0
PRODID:-//demosphere.net//NONSGML kigkonsult.se iCalcreator 2.22.1//
METHOD:REQUEST
X-WR-TIMEZONE:Europe/Athens
BEGIN:VEVENT
UID:https://www.kinimatorama.net/event/106780
DTSTAMP:20190413T103000Z
DESCRIPTION:περισσότερες πληροφορίες: https://www.kinimatorama.net/event/10
 6780 
DTSTART:20190413T103000Z
DTEND:20190413T113000Z
GEO:+38.151803;+21.419241
LOCATION:Άραξος\, \nαεροπορική βάση Άραξου
SUMMARY:Διαδήλωση
URL:https://www.kinimatorama.net/event/106780
END:VEVENT
END:VCALENDAR
