BEGIN:VCALENDAR
VERSION:2.0
PRODID:-//demosphere.net//NONSGML kigkonsult.se iCalcreator 2.22.1//
METHOD:REQUEST
X-WR-TIMEZONE:Europe/Athens
BEGIN:VEVENT
UID:https://www.kinimatorama.net/event/135821
DTSTAMP:20220321T083000Z
DESCRIPTION:περισσότερες πληροφορίες: https://www.kinimatorama.net/event/13
 5821 
DTSTART:20220321T083000Z
DTEND:20220321T093000Z
GEO:+40.628824;+22.946413
LOCATION:Θεσσαλονίκη\, \nΕπιθεώρηση Εργασίας Θεσσαλονίκης \nΠροξένου Κορομη
 λά 51
SUMMARY:Συγκέντρωση Αλληλεγγύης σε απολυμένο συνάδελφο
URL:https://www.kinimatorama.net/event/135821
END:VEVENT
END:VCALENDAR
