BEGIN:VCALENDAR
VERSION:2.0
PRODID:-//demosphere.net//NONSGML kigkonsult.se iCalcreator 2.22.1//
METHOD:REQUEST
X-WR-TIMEZONE:Europe/Athens
BEGIN:VEVENT
UID:https://www.kinimatorama.net/event/136058
DTSTAMP:20220410T100000Z
DESCRIPTION:περισσότερες πληροφορίες: https://www.kinimatorama.net/event/13
 6058 
DTSTART:20220410T100000Z
DTEND:20220410T110000Z
GEO:+38.151803;+21.419241
LOCATION:Άραξος\, \nαεροπορική βάση Άραξου
SUMMARY:Αντιπολεμική διαδήλωση
URL:https://www.kinimatorama.net/event/136058
END:VEVENT
END:VCALENDAR
