BEGIN:VCALENDAR
VERSION:2.0
PRODID:-//demosphere.net//NONSGML kigkonsult.se iCalcreator 2.22.1//
METHOD:REQUEST
X-WR-TIMEZONE:Europe/Athens
BEGIN:VEVENT
UID:https://www.kinimatorama.net/event/153606
DTSTAMP:20230621T060000Z
DESCRIPTION:περισσότερες πληροφορίες: https://www.kinimatorama.net/event/15
 3606 
DTSTART:20230621T060000Z
DTEND:20230621T070000Z
GEO:+40.628824;+22.946413
LOCATION:Θεσσαλονίκη\, \nΕπιθεώρηση Εργασίας Θεσσαλονίκης \nΠροξένου Κορομη
 λά 51
SUMMARY:Συγκέντρωση αλληλεγγύης στους πρώην εργαζόμενους/Ες του Grill Bros
URL:https://www.kinimatorama.net/event/153606
END:VEVENT
END:VCALENDAR
