BEGIN:VCALENDAR
VERSION:2.0
PRODID:-//demosphere.net//NONSGML kigkonsult.se iCalcreator 2.22.1//
METHOD:REQUEST
X-WR-TIMEZONE:Europe/Athens
BEGIN:VEVENT
UID:https://www.kinimatorama.net/event/185278
DTSTAMP:20260109T160000Z
DESCRIPTION:περισσότερες πληροφορίες: https://www.kinimatorama.net/event/18
 5278 
DTSTART:20260109T160000Z
DTEND:20260109T170000Z
GEO:+38.239616;+21.735061
LOCATION:Πάτρα\, \nΣχολεία Τεμπονέρα
SUMMARY:[Πάτρα] Συγκέντρωση μνήμης και αγώνα
URL:https://www.kinimatorama.net/event/185278
END:VEVENT
END:VCALENDAR
