BEGIN:VCALENDAR
VERSION:2.0
PRODID:-//demosphere.net//NONSGML kigkonsult.se iCalcreator 2.22.1//
METHOD:REQUEST
X-WR-TIMEZONE:Europe/Athens
BEGIN:VEVENT
UID:https://www.kinimatorama.net/event/188517
DTSTAMP:20260319T163000Z
DESCRIPTION:περισσότερες πληροφορίες: https://www.kinimatorama.net/event/18
 8517 
DTSTART:20260319T163000Z
DTEND:20260319T173000Z
GEO:+41.13872;+24.8857
LOCATION:Ξάνθη\, \nΡωγμή \nΜ. Βόγδου 20\, 4ος όροφος \n(έναντι δικαστηρίων)
SUMMARY:Εκδήλωση για τις πειθαρχικές διώξεις εκπαιδευτικών
URL:https://www.kinimatorama.net/event/188517
END:VEVENT
END:VCALENDAR
