BEGIN:VCALENDAR
VERSION:2.0
PRODID:-//demosphere.net//NONSGML kigkonsult.se iCalcreator 2.22.1//
METHOD:REQUEST
X-WR-TIMEZONE:Europe/Athens
BEGIN:VEVENT
UID:https://www.kinimatorama.net/event/188521
DTSTAMP:20260319T100000Z
DESCRIPTION:περισσότερες πληροφορίες: https://www.kinimatorama.net/event/18
 8521 
DTSTART:20260319T100000Z
DTEND:20260319T110000Z
GEO:+37.980418;+23.733215
LOCATION:Αθήνα\, \nΠροπύλαια \n(Μετρό Πανεπιστήμιο)
SUMMARY:Αντιπολεμική φοιτητική πορεία
URL:https://www.kinimatorama.net/event/188521
END:VEVENT
END:VCALENDAR
