BEGIN:VCALENDAR
VERSION:2.0
PRODID:-//demosphere.net//NONSGML kigkonsult.se iCalcreator 2.22.1//
METHOD:REQUEST
X-WR-TIMEZONE:Europe/Athens
BEGIN:VEVENT
UID:https://www.kinimatorama.net/event/188885
DTSTAMP:20260402T153000Z
DESCRIPTION:περισσότερες πληροφορίες: https://www.kinimatorama.net/event/18
 8885 
DTSTART:20260402T153000Z
DTEND:20260402T163000Z
GEO:+40.619376;+22.954388
LOCATION:Θεσσαλονίκη\, \n'Σχολείο για τη Μάθηση της Ελευθερίας' \nΕλεύθερος
  Κοινωνικός Χώρος \n(πρώην 12ο Δημοτικό Σχολείο Θεσσαλονίκης) \nΒασ. Γεωργ
 ίου με Μπιζανίου \nλεωφορεία 3\,5\,6\,7\,8\,10\,11\,31\,33\,39\,58 \nστάση
  ΕΥΖΩΝΩΝ \n(περιοχή Φάληρο)
SUMMARY:Παρουσίαση του Τόμου 'Οι Αγώνες των Κοινών στην Εκπαίδευση'
URL:https://www.kinimatorama.net/event/188885
END:VEVENT
END:VCALENDAR
