BEGIN:VCALENDAR
VERSION:2.0
PRODID:-//demosphere.net//NONSGML kigkonsult.se iCalcreator 2.22.1//
METHOD:REQUEST
X-WR-TIMEZONE:Europe/Athens
BEGIN:VEVENT
UID:https://www.kinimatorama.net/event/189232
DTSTAMP:20260408T180000Z
DESCRIPTION:περισσότερες πληροφορίες: https://www.kinimatorama.net/event/18
 9232 
DTSTART:20260408T180000Z
DTEND:20260408T190000Z
GEO:+37.979198;+23.723922
LOCATION:Αθήνα\, \nΕλεύθερο Αυτοδιαχειριζόμενο Θέατρο Εμπρός \nΡήγα Παλαμήδ
 ου 2\, Ψυρρή \n(πλησίον σταθμού ΜΟΝΑΣΤΗΡΑΚΙ)
SUMMARY:Τελετή Megaira & the snakes
URL:https://www.kinimatorama.net/event/189232
END:VEVENT
END:VCALENDAR
