BEGIN:VCALENDAR
VERSION:2.0
PRODID:-//demosphere.net//NONSGML kigkonsult.se iCalcreator 2.22.1//
METHOD:REQUEST
X-WR-TIMEZONE:Europe/Athens
BEGIN:VEVENT
UID:https://www.kinimatorama.net/event/189455
DTSTAMP:20260413T173000Z
DESCRIPTION:περισσότερες πληροφορίες: https://www.kinimatorama.net/event/18
 9455 
DTSTART:20260413T173000Z
DTEND:20260413T183000Z
LOCATION:Καρδίτσα\, \nάγνωστη τοποθεσία\, \nΚαρδίτσα
SUMMARY:Συνέλευση Αυτοδιαχειριζόμενου Στεκιού Καρδίτσας .
URL:https://www.kinimatorama.net/event/189455
END:VEVENT
END:VCALENDAR
