BEGIN:VCALENDAR
VERSION:2.0
PRODID:-//demosphere.net//NONSGML kigkonsult.se iCalcreator 2.22.1//
METHOD:REQUEST
X-WR-TIMEZONE:Europe/Athens
BEGIN:VEVENT
UID:https://www.kinimatorama.net/event/189609
DTSTAMP:20260418T173000Z
DESCRIPTION:περισσότερες πληροφορίες: https://www.kinimatorama.net/event/18
 9609 
DTSTART:20260418T173000Z
DTEND:20260418T183000Z
GEO:+37.988248;+23.754665
LOCATION:Αθήνα\, \nΠλατεία Προσφυγικών \nΚούζη & Ξυνιάδος \nΑμπελόκηποι \nS
 quare of Prosfygika \nKouzi & Xiniados \nAbelokipoi
SUMMARY:Συναυλία Αλληλεγγύης με τα Προσφυγικά | Concert in solidarity with 
 Prosfygika
URL:https://www.kinimatorama.net/event/189609
END:VEVENT
END:VCALENDAR
