BEGIN:VCALENDAR
VERSION:2.0
PRODID:-//demosphere.net//NONSGML kigkonsult.se iCalcreator 2.22.1//
METHOD:REQUEST
X-WR-TIMEZONE:Europe/Athens
BEGIN:VEVENT
UID:https://www.kinimatorama.net/event/189638
DTSTAMP:20260425T173000Z
DESCRIPTION:περισσότερες πληροφορίες: https://www.kinimatorama.net/event/18
 9638 
DTSTART:20260425T173000Z
DTEND:20260425T183000Z
GEO:+40.6391;+22.940668
LOCATION:Θεσσαλονίκη\, \nΚοινωνικό Κέντρο Ovradera \nΕπισκόπου Αμβροσίου 14
  \nπεριοχή Αντιγονιδών
SUMMARY:Post punk/World Dj Set οικ. ενίσχυσης για την δημιουργία στεκιού στ
 α Δυτικά
URL:https://www.kinimatorama.net/event/189638
END:VEVENT
END:VCALENDAR
