BEGIN:VCALENDAR
VERSION:2.0
PRODID:-//demosphere.net//NONSGML kigkonsult.se iCalcreator 2.22.1//
METHOD:REQUEST
X-WR-TIMEZONE:Europe/Athens
BEGIN:VEVENT
UID:https://www.kinimatorama.net/event/189649
DTSTAMP:20260421T160000Z
DESCRIPTION:περισσότερες πληροφορίες: https://www.kinimatorama.net/event/18
 9649 
DTSTART:20260421T160000Z
DTEND:20260421T170000Z
GEO:+37.953;+23.738805
LOCATION:Δάφνη\, \nΖερμινάλ | αυτοοργανωμένος χώρος στα νότια \nΗλιουπόλεως
  124 (& Γυμναστηρίου)
SUMMARY:Εργαστήριο μεταποίησης τροφίμων (μπάρες δημητριακών)
URL:https://www.kinimatorama.net/event/189649
END:VEVENT
END:VCALENDAR
