BEGIN:VCALENDAR
VERSION:2.0
PRODID:-//demosphere.net//NONSGML kigkonsult.se iCalcreator 2.22.1//
METHOD:REQUEST
X-WR-TIMEZONE:Europe/Athens
BEGIN:VEVENT
UID:https://www.kinimatorama.net/event/189651
DTSTAMP:20260422T153000Z
DESCRIPTION:περισσότερες πληροφορίες: https://www.kinimatorama.net/event/18
 9651 
DTSTART:20260422T153000Z
DTEND:20260422T163000Z
GEO:+37.994854;+23.740732
LOCATION:Αθήνα\, \nΠλατεία Πρωτομαγιάς \nΠεδίον του Άρεως
SUMMARY:Κάλεσμα Αντιστάσεων στην Κυριαρχία μέσω της Τεχνολογίας
URL:https://www.kinimatorama.net/event/189651
END:VEVENT
END:VCALENDAR
