BEGIN:VCALENDAR
VERSION:2.0
PRODID:-//demosphere.net//NONSGML kigkonsult.se iCalcreator 2.22.1//
METHOD:REQUEST
X-WR-TIMEZONE:Europe/Athens
BEGIN:VEVENT
UID:https://www.kinimatorama.net/event/189656
DTSTAMP:20260424T170000Z
DESCRIPTION:περισσότερες πληροφορίες: https://www.kinimatorama.net/event/18
 9656 
DTSTART:20260424T170000Z
DTEND:20260424T180000Z
GEO:+37.987555;+23.735275
LOCATION:Αθήνα\, \nΚηπάκι της Τσαμαδού \nΤσαμαδού 12 \nΕξάρχεια
SUMMARY:Artzi πάντα Παρων
URL:https://www.kinimatorama.net/event/189656
END:VEVENT
END:VCALENDAR
