BEGIN:VCALENDAR
VERSION:2.0
PRODID:-//demosphere.net//NONSGML kigkonsult.se iCalcreator 2.22.1//
METHOD:REQUEST
X-WR-TIMEZONE:Europe/Athens
BEGIN:VEVENT
UID:https://www.kinimatorama.net/event/189657
DTSTAMP:20260420T170000Z
DESCRIPTION:περισσότερες πληροφορίες: https://www.kinimatorama.net/event/18
 9657 
DTSTART:20260420T170000Z
DTEND:20260420T180000Z
GEO:+37.996804;+23.725858
LOCATION:Αθήνα\, \nΑυτόνομο Φεμινιστικό Κέντρο για την έρευνα \nΑγίου Παντε
 λεήμονα 7Β \nπλατεία Αγίου Παντελεήμονα \n(5' περπάτημα από σταθμό ΑΤΤΙΚΗ)
SUMMARY:SWM: Ανοιχτό κάλεσμα σε συζήτηση για την ομάδα Material Support
URL:https://www.kinimatorama.net/event/189657
END:VEVENT
END:VCALENDAR
