BEGIN:VCALENDAR
VERSION:2.0
PRODID:-//demosphere.net//NONSGML kigkonsult.se iCalcreator 2.22.1//
METHOD:REQUEST
X-WR-TIMEZONE:Europe/Athens
BEGIN:VEVENT
UID:https://www.kinimatorama.net/event/189660
DTSTAMP:20260423T053000Z
DESCRIPTION:περισσότερες πληροφορίες: https://www.kinimatorama.net/event/18
 9660 
DTSTART:20260423T053000Z
DTEND:20260423T063000Z
GEO:+37.989249;+23.752314
LOCATION:Αθήνα\, \nΕφετείο Αθηνών
SUMMARY:Συγκέντρώση αλληλεγγύης στις τελευταίες δικασίμους της υπόθεσης των
  Αμπελοκήπων
URL:https://www.kinimatorama.net/event/189660
END:VEVENT
END:VCALENDAR
