BEGIN:VCALENDAR
VERSION:2.0
PRODID:-//demosphere.net//NONSGML kigkonsult.se iCalcreator 2.22.1//
METHOD:REQUEST
X-WR-TIMEZONE:Europe/Athens
BEGIN:VEVENT
UID:https://www.kinimatorama.net/event/189670
DTSTAMP:20260421T170000Z
DESCRIPTION:περισσότερες πληροφορίες: https://www.kinimatorama.net/event/18
 9670 
DTSTART:20260421T170000Z
DTEND:20260421T180000Z
GEO:+40.636539;+22.948888
LOCATION:Θεσσαλονίκη\, \nΚεραία \nΑγίας Σοφίας 70 \n(3' περπάτημα από σταθμ
 ό μετρό ΑΓΙΑΣ ΣΟΦΙΑΣ)
SUMMARY:Σινέ κεραία: ελληνικά b-movies
URL:https://www.kinimatorama.net/event/189670
END:VEVENT
END:VCALENDAR
