BEGIN:VCALENDAR
VERSION:2.0
PRODID:-//demosphere.net//NONSGML kigkonsult.se iCalcreator 2.22.1//
METHOD:REQUEST
X-WR-TIMEZONE:Europe/Athens
BEGIN:VEVENT
UID:https://www.kinimatorama.net/event/189675
DTSTAMP:20260425T100000Z
DESCRIPTION:περισσότερες πληροφορίες: https://www.kinimatorama.net/event/18
 9675 
DTSTART:20260425T100000Z
DTEND:20260425T110000Z
GEO:+39.555039;+21.767766
LOCATION:Τρίκαλα\, \nΠλατεία Ρήγα Φεραίου
SUMMARY:[Τρίκαλα] Συγκέντρωση-πορεία για τις 5 δολοφονημένες εργάτριες της 
 Βιολάντα
URL:https://www.kinimatorama.net/event/189675
END:VEVENT
END:VCALENDAR
