BEGIN:VCALENDAR
VERSION:2.0
PRODID:-//demosphere.net//NONSGML kigkonsult.se iCalcreator 2.22.1//
METHOD:REQUEST
X-WR-TIMEZONE:Europe/Athens
BEGIN:VEVENT
UID:https://www.kinimatorama.net/event/189679
DTSTAMP:20260427T170000Z
DESCRIPTION:περισσότερες πληροφορίες: https://www.kinimatorama.net/event/18
 9679 
DTSTART:20260427T170000Z
DTEND:20260427T180000Z
GEO:+39.608422;+19.920036
LOCATION:Κέρκυρα\, \nΚατάληψη Ελαία \nΙνστιτούτο ελαίας \nΔαίρπφελδ & Αγίων
  Θεοδώρων \nΜον Ρεπό \nΓαρίτσα
SUMMARY:Αναρρίχηση
URL:https://www.kinimatorama.net/event/189679
END:VEVENT
END:VCALENDAR
