BEGIN:VCALENDAR
VERSION:2.0
PRODID:-//demosphere.net//NONSGML kigkonsult.se iCalcreator 2.22.1//
METHOD:REQUEST
X-WR-TIMEZONE:Europe/Athens
BEGIN:VEVENT
UID:https://www.kinimatorama.net/event/189687
DTSTAMP:20260424T160000Z
DESCRIPTION:περισσότερες πληροφορίες: https://www.kinimatorama.net/event/18
 9687 
DTSTART:20260424T160000Z
DTEND:20260424T170000Z
GEO:+40.632845;+22.955744
LOCATION:Θεσσαλονίκη\, \nΠλατεία Χημείου \nΑΠΘ
SUMMARY:Ρεμπέτικο Οικ. Ενίσχυσης Σχημάτων
URL:https://www.kinimatorama.net/event/189687
END:VEVENT
END:VCALENDAR
