BEGIN:VCALENDAR
VERSION:2.0
PRODID:-//demosphere.net//NONSGML kigkonsult.se iCalcreator 2.22.1//
METHOD:REQUEST
X-WR-TIMEZONE:Europe/Athens
BEGIN:VEVENT
UID:https://www.kinimatorama.net/event/189697
DTSTAMP:20260531T003300Z
DESCRIPTION:περισσότερες πληροφορίες: https://www.kinimatorama.net/event/18
 9697 
DTSTART;VALUE=DATE:20260531
GEO:+40.616656;+22.964462
LOCATION:Θεσσαλονίκη\, \nΚατάληψη Φάμπρικα Υφανέτ \nΟμήρου και Περδίκα\, Κά
 τω Τούμπα \nλεωφορεία από κέντρο: \n12 (στάση Υφανέτ) \n2\,58 (Θεαγένειο)
SUMMARY:Φεστιβάλ γενεθλίων για τα 22 χρόνια Φάμπρικα Υφανέτ
URL:https://www.kinimatorama.net/event/189697
END:VEVENT
END:VCALENDAR
