BEGIN:VCALENDAR
VERSION:2.0
PRODID:-//demosphere.net//NONSGML kigkonsult.se iCalcreator 2.22.1//
METHOD:REQUEST
X-WR-TIMEZONE:Europe/Athens
BEGIN:VEVENT
UID:https://www.kinimatorama.net/event/189703
DTSTAMP:20260516T080000Z
DESCRIPTION:περισσότερες πληροφορίες: https://www.kinimatorama.net/event/18
 9703 
DTSTART:20260516T080000Z
DTEND:20260516T090000Z
GEO:+37.992455;+23.708356
LOCATION:Αθήνα\, \nΠάρκο Ακαδημίας Πλάτωνος \n(Λεωφορείο 051)
SUMMARY:Τουρνουά 3on3 Σπύρος Χαϊκάλης & εκδήλωση μνήμης
URL:https://www.kinimatorama.net/event/189703
END:VEVENT
END:VCALENDAR
