BEGIN:VCALENDAR
VERSION:2.0
PRODID:-//demosphere.net//NONSGML kigkonsult.se iCalcreator 2.22.1//
METHOD:REQUEST
X-WR-TIMEZONE:Europe/Athens
BEGIN:VEVENT
UID:https://www.kinimatorama.net/event/189705
DTSTAMP:20260425T100000Z
DESCRIPTION:περισσότερες πληροφορίες: https://www.kinimatorama.net/event/18
 9705 
DTSTART:20260425T100000Z
DTEND:20260425T110000Z
GEO:+37.968738;+23.729551
LOCATION:Αθήνα\, \nΣταθμός Μετρό Ακρόπολη
SUMMARY:Πορεία για τα συντρόφια που διώκονται για την υπεράσπιση της Ματρόζ
 ου 45
URL:https://www.kinimatorama.net/event/189705
END:VEVENT
END:VCALENDAR
