BEGIN:VCALENDAR
VERSION:2.0
PRODID:-//demosphere.net//NONSGML kigkonsult.se iCalcreator 2.22.1//
METHOD:REQUEST
X-WR-TIMEZONE:Europe/Athens
BEGIN:VEVENT
UID:https://www.kinimatorama.net/event/189709
DTSTAMP:20260425T090000Z
DESCRIPTION:περισσότερες πληροφορίες: https://www.kinimatorama.net/event/18
 9709 
DTSTART:20260425T090000Z
DTEND:20260425T100000Z
GEO:+37.96187;+23.690096
LOCATION:Αγ.Ι.Ρέντης\, \nΑνώτατη Σχολή Καλών Τεχνών (ΑΣΚΤ) \nΠειραιώς 256 
 \n(λεωφορεία 049\, 914 \n5' περπάτημα από σταθμό ΗΣΑΠ ΚΑΛΛΙΘΕΑ)
SUMMARY:Ημερίδα: Η Τέχνη ως (ανα)παραγωγή κυρίαρχης & χειραφετητικής πολιτι
 κής
URL:https://www.kinimatorama.net/event/189709
END:VEVENT
END:VCALENDAR
