BEGIN:VCALENDAR
VERSION:2.0
PRODID:-//demosphere.net//NONSGML kigkonsult.se iCalcreator 2.22.1//
METHOD:REQUEST
X-WR-TIMEZONE:Europe/Athens
BEGIN:VEVENT
UID:https://www.kinimatorama.net/event/189713
DTSTAMP:20260423T170000Z
DESCRIPTION:περισσότερες πληροφορίες: https://www.kinimatorama.net/event/18
 9713 
DTSTART:20260423T170000Z
DTEND:20260423T180000Z
GEO:+38.005072;+23.696542
LOCATION:Περιστέρι\, \nχώρος Χιπ Χοπ Καφενέ \nΤομεζά 3 \n(κοντά στο μετρό Α
 γ. Αντώνιος)
SUMMARY:Προβολή του ντοκιμαντέρ 'On Lavender' & συζήτηση
URL:https://www.kinimatorama.net/event/189713
END:VEVENT
END:VCALENDAR
