BEGIN:VCALENDAR
VERSION:2.0
PRODID:-//demosphere.net//NONSGML kigkonsult.se iCalcreator 2.22.1//
METHOD:REQUEST
X-WR-TIMEZONE:Europe/Athens
BEGIN:VEVENT
UID:https://www.kinimatorama.net/event/189715
DTSTAMP:20260426T140000Z
DESCRIPTION:περισσότερες πληροφορίες: https://www.kinimatorama.net/event/18
 9715 
DTSTART:20260426T140000Z
DTEND:20260426T150000Z
GEO:+37.993043;+23.763707
LOCATION:Αθήνα\, \nπλατεία Κανελλόπουλου \n(σταθμός Μετρό Πανόρμου)
SUMMARY:Αντιφασιστική διαδήλωση για το κλείσιμο των γραφείων του Εθνικού Με
 τώπου
URL:https://www.kinimatorama.net/event/189715
END:VEVENT
END:VCALENDAR
