BEGIN:VCALENDAR
VERSION:2.0
PRODID:-//demosphere.net//NONSGML kigkonsult.se iCalcreator 2.22.1//
METHOD:REQUEST
X-WR-TIMEZONE:Europe/Athens
BEGIN:VEVENT
UID:https://www.kinimatorama.net/event/189716
DTSTAMP:20260422T153000Z
DESCRIPTION:περισσότερες πληροφορίες: https://www.kinimatorama.net/event/18
 9716 
DTSTART:20260422T153000Z
DTEND:20260422T163000Z
GEO:+35.333267;+25.138221
LOCATION:Ηράκλειο\, \nΕργατικό Κέντρο Ηρακλείου \nΛεωφόρος Δημοκρατίας 10
SUMMARY:Συνέλευση της Πρωτοβουλίας ενάντια στις διώξεις στην εκπαίδευση
URL:https://www.kinimatorama.net/event/189716
END:VEVENT
END:VCALENDAR
