BEGIN:VCALENDAR
VERSION:2.0
PRODID:-//demosphere.net//NONSGML kigkonsult.se iCalcreator 2.22.1//
METHOD:REQUEST
X-WR-TIMEZONE:Europe/Athens
BEGIN:VEVENT
UID:https://www.kinimatorama.net/event/189717
DTSTAMP:20260422T163000Z
DESCRIPTION:περισσότερες πληροφορίες: https://www.kinimatorama.net/event/18
 9717 
DTSTART:20260422T163000Z
DTEND:20260422T173000Z
GEO:+35.515361;+24.021515
LOCATION:Χανιά\, \nΚοινωνικό Στέκι - Στέκι Μεταναστών Χανίων \nΧατζήΜιχάλη 
 Νταλιάνη 5
SUMMARY:Συντονισμός δράσεων αλληλεγγύης στην Παλαιστίνη & οργάνωση του Piff
URL:https://www.kinimatorama.net/event/189717
END:VEVENT
END:VCALENDAR
