BEGIN:VCALENDAR
VERSION:2.0
PRODID:-//demosphere.net//NONSGML kigkonsult.se iCalcreator 2.22.1//
METHOD:REQUEST
X-WR-TIMEZONE:Europe/Athens
BEGIN:VEVENT
UID:https://www.kinimatorama.net/event/189718
DTSTAMP:20260425T183000Z
DESCRIPTION:περισσότερες πληροφορίες: https://www.kinimatorama.net/event/18
 9718 
DTSTART:20260425T183000Z
DTEND:20260425T193000Z
GEO:+37.9895;+23.737333
LOCATION:Αθήνα\, \nΕκλάμψεις \nχώρος βιβλίου στα Εξάρχεια \nΙουστινιανού 13
SUMMARY:Μπαρ οικονομικής ενίσχυσης αυτοοοργανωμένης θεατρικής παράστασης
URL:https://www.kinimatorama.net/event/189718
END:VEVENT
END:VCALENDAR
