BEGIN:VCALENDAR
VERSION:2.0
PRODID:-//demosphere.net//NONSGML kigkonsult.se iCalcreator 2.22.1//
METHOD:REQUEST
X-WR-TIMEZONE:Europe/Athens
BEGIN:VEVENT
UID:https://www.kinimatorama.net/event/189719
DTSTAMP:20260426T140000Z
DESCRIPTION:περισσότερες πληροφορίες: https://www.kinimatorama.net/event/18
 9719 
DTSTART:20260426T140000Z
DTEND:20260426T150000Z
GEO:+35.187167;+25.714995
LOCATION:Αγ. Νικόλαος\, \nκοινωνικός χώρος «Πυρόβολος» \nΧορτατσών 7
SUMMARY:Παραδοσιακό Γλέντι
URL:https://www.kinimatorama.net/event/189719
END:VEVENT
END:VCALENDAR
