BEGIN:VCALENDAR
VERSION:2.0
PRODID:-//demosphere.net//NONSGML kigkonsult.se iCalcreator 2.22.1//
METHOD:REQUEST
X-WR-TIMEZONE:Europe/Athens
BEGIN:VEVENT
UID:https://www.kinimatorama.net/event/189722
DTSTAMP:20260426T150000Z
DESCRIPTION:περισσότερες πληροφορίες: https://www.kinimatorama.net/event/18
 9722 
DTSTART:20260426T150000Z
DTEND:20260426T160000Z
GEO:+38.248304;+21.738623
LOCATION:Πάτρα\, \nΚατάληψη Παραρτήματος \n(Παράρτημα) \nΚορίνθου και Αράτο
 υ
SUMMARY:Παρουσίαση της μπροσούρας 'Η Εργατική Τάξη και οι σύμμαχοί της'
URL:https://www.kinimatorama.net/event/189722
END:VEVENT
END:VCALENDAR
