BEGIN:VCALENDAR
VERSION:2.0
PRODID:-//demosphere.net//NONSGML kigkonsult.se iCalcreator 2.22.1//
METHOD:REQUEST
X-WR-TIMEZONE:Europe/Athens
BEGIN:VEVENT
UID:https://www.kinimatorama.net/event/189728
DTSTAMP:20260422T003300Z
DESCRIPTION:περισσότερες πληροφορίες: https://www.kinimatorama.net/event/18
 9728 
DTSTART;VALUE=DATE:20260422
GEO:+40.619376;+22.954388
LOCATION:Θεσσαλονίκη\, \n'Σχολείο για τη Μάθηση της Ελευθερίας' \nΕλεύθερος
  Κοινωνικός Χώρος \n(πρώην 12ο Δημοτικό Σχολείο Θεσσαλονίκης) \nΒασ. Γεωργ
 ίου με Μπιζανίου \nλεωφορεία 3\,5\,6\,7\,8\,10\,11\,31\,33\,39\,58 \nστάση
  ΕΥΖΩΝΩΝ \n(περιοχή Φάληρο)
SUMMARY:Εβδομαδιαίο πρόγραμμα του Ε.Κ.Χ. Σχολείο
URL:https://www.kinimatorama.net/event/189728
END:VEVENT
END:VCALENDAR
