BEGIN:VCALENDAR
VERSION:2.0
PRODID:-//demosphere.net//NONSGML kigkonsult.se iCalcreator 2.22.1//
METHOD:REQUEST
X-WR-TIMEZONE:Europe/Athens
BEGIN:VEVENT
UID:https://www.kinimatorama.net/event/189735
DTSTAMP:20260423T173000Z
DESCRIPTION:περισσότερες πληροφορίες: https://www.kinimatorama.net/event/18
 9735 
DTSTART:20260423T173000Z
DTEND:20260423T183000Z
GEO:+37.988017;+23.754557
LOCATION:Αθήνα\, \nκιόσκι Κατειλημμένων Προσφυγικών \nΛ. Αλεξάνδρας & Αριστ
 οτέλους Κουζή \nKioski of Prosfygika\, Kouzi & Vegoritidos\, \n(πλησίον στ
 αθμού Μετρό ΑΜΠΕΛΟΚΗΠΟΙ)
SUMMARY:Προβολή 4 Ντοκιμαντέρ | 4 Documentary Projection 'Cuba\, a people i
 n resistance'
URL:https://www.kinimatorama.net/event/189735
END:VEVENT
END:VCALENDAR
