BEGIN:VCALENDAR
VERSION:2.0
PRODID:-//demosphere.net//NONSGML kigkonsult.se iCalcreator 2.22.1//
METHOD:REQUEST
X-WR-TIMEZONE:Europe/Athens
BEGIN:VEVENT
UID:https://www.kinimatorama.net/event/189738
DTSTAMP:20260427T130000Z
DESCRIPTION:περισσότερες πληροφορίες: https://www.kinimatorama.net/event/18
 9738 
DTSTART:20260427T130000Z
DTEND:20260427T140000Z
GEO:+40.631236;+22.955475
LOCATION:Θεσσαλονίκη\, \nγρασίδια Φιλοσοφικής ΑΠΘ
SUMMARY:Workshop: Πως η κοινωνία διαμορφώνει την ψυχική δυσφορία\;
URL:https://www.kinimatorama.net/event/189738
END:VEVENT
END:VCALENDAR
