BEGIN:VCALENDAR
VERSION:2.0
PRODID:-//demosphere.net//NONSGML kigkonsult.se iCalcreator 2.22.1//
METHOD:REQUEST
X-WR-TIMEZONE:Europe/Athens
BEGIN:VEVENT
UID:https://www.kinimatorama.net/event/189739
DTSTAMP:20260426T140000Z
DESCRIPTION:περισσότερες πληροφορίες: https://www.kinimatorama.net/event/18
 9739 
DTSTART:20260426T140000Z
DTEND:20260426T150000Z
GEO:+37.988398;+23.746339
LOCATION:Αθήνα\, \nστέκι του Αδέσποτου \nΦαναριωτών 12 \nΝεάπολη Εξαρχείων
SUMMARY:Προβολή ντοκιμαντέρ 'What politica- a non political football story'
URL:https://www.kinimatorama.net/event/189739
END:VEVENT
END:VCALENDAR
