BEGIN:VCALENDAR
VERSION:2.0
PRODID:-//demosphere.net//NONSGML kigkonsult.se iCalcreator 2.22.1//
METHOD:REQUEST
X-WR-TIMEZONE:Europe/Athens
BEGIN:VEVENT
UID:https://www.kinimatorama.net/event/189742
DTSTAMP:20260422T170000Z
DESCRIPTION:περισσότερες πληροφορίες: https://www.kinimatorama.net/event/18
 9742 
DTSTART:20260422T170000Z
DTEND:20260422T180000Z
GEO:+40.618217;+22.957619
LOCATION:Θεσσαλονίκη\, \nΕλευθεριακό Στέκι Victoire \nΑγίας Τριάδος 28 & Γε
 ωργίου Κωνσταντινίδη \nΦάληρο
SUMMARY:Διαχειριστική Συνέλευση του Ελευθεριακού Στεκιού Victoire
URL:https://www.kinimatorama.net/event/189742
END:VEVENT
END:VCALENDAR
