BEGIN:VCALENDAR
VERSION:2.0
PRODID:-//demosphere.net//NONSGML kigkonsult.se iCalcreator 2.22.1//
METHOD:REQUEST
X-WR-TIMEZONE:Europe/Athens
BEGIN:VEVENT
UID:https://www.kinimatorama.net/event/189743
DTSTAMP:20260424T153000Z
DESCRIPTION:περισσότερες πληροφορίες: https://www.kinimatorama.net/event/18
 9743 
DTSTART:20260424T153000Z
DTEND:20260424T163000Z
GEO:+40.641623;+22.9392
LOCATION:Θεσσαλονίκη\, \nΠαρατηρητήριο για τα Δικαιώματα στο χώρο της Ψυχικ
 ής Υγείας \nΟλύμπου 18\, 4ος όροφος
SUMMARY:Βιβλιοπαρουσίαση: Ο δρόμος προς μία ψυχιατρική απορρύθμιση
URL:https://www.kinimatorama.net/event/189743
END:VEVENT
END:VCALENDAR
