BEGIN:VCALENDAR
VERSION:2.0
PRODID:-//demosphere.net//NONSGML kigkonsult.se iCalcreator 2.22.1//
METHOD:REQUEST
X-WR-TIMEZONE:Europe/Athens
BEGIN:VEVENT
UID:https://www.kinimatorama.net/event/189744
DTSTAMP:20260424T160000Z
DESCRIPTION:περισσότερες πληροφορίες: https://www.kinimatorama.net/event/18
 9744 
DTSTART:20260424T160000Z
DTEND:20260424T170000Z
GEO:+37.961888;+23.719175
LOCATION:Αθήνα\, \nπλατεία Κουντουριώτου (παιδική χαρά) \nΔημητρακοπούλου κ
 αι Σικελίας \nΚουκάκι \n(Τρόλλεϋ 1\,5\,15: στάση ΠΑΙΔΙΚΗ ΧΑΡΑ)
SUMMARY:Ηip Hop / Punk Live αλληλεγγύης στους/στις καταληψίες του Κουκακίου
URL:https://www.kinimatorama.net/event/189744
END:VEVENT
END:VCALENDAR
