BEGIN:VCALENDAR
VERSION:2.0
PRODID:-//demosphere.net//NONSGML kigkonsult.se iCalcreator 2.22.1//
METHOD:REQUEST
X-WR-TIMEZONE:Europe/Athens
BEGIN:VEVENT
UID:https://www.kinimatorama.net/event/189745
DTSTAMP:20260424T160000Z
DESCRIPTION:περισσότερες πληροφορίες: https://www.kinimatorama.net/event/18
 9745 
DTSTART:20260424T160000Z
DTEND:20260424T170000Z
GEO:+35.341459;+25.132416
LOCATION:Ηράκλειο\, \nΚατάληψη Ευαγγελισμού \nΘεοτοκοπούλου 18
SUMMARY:3η Ανοιχτή συνέλευση υπεράσπισης των Κατειλημμένων Προσφυγικών
URL:https://www.kinimatorama.net/event/189745
END:VEVENT
END:VCALENDAR
