BEGIN:VCALENDAR
VERSION:2.0
PRODID:-//demosphere.net//NONSGML kigkonsult.se iCalcreator 2.22.1//
METHOD:REQUEST
X-WR-TIMEZONE:Europe/Athens
BEGIN:VEVENT
UID:https://www.kinimatorama.net/event/189748
DTSTAMP:20260430T160000Z
DESCRIPTION:περισσότερες πληροφορίες: https://www.kinimatorama.net/event/18
 9748 
DTSTART:20260430T160000Z
DTEND:20260430T170000Z
GEO:+37.980418;+23.733215
LOCATION:Αθήνα\, \nΠροπύλαια \n(Μετρό Πανεπιστήμιο)
SUMMARY:Συγκέντρωση εν όψει της πρωτομαγιάς
URL:https://www.kinimatorama.net/event/189748
END:VEVENT
END:VCALENDAR
