BEGIN:VCALENDAR
VERSION:2.0
PRODID:-//demosphere.net//NONSGML kigkonsult.se iCalcreator 2.22.1//
METHOD:REQUEST
X-WR-TIMEZONE:Europe/Athens
BEGIN:VEVENT
UID:https://www.kinimatorama.net/event/189750
DTSTAMP:20260424T060000Z
DESCRIPTION:περισσότερες πληροφορίες: https://www.kinimatorama.net/event/18
 9750 
DTSTART:20260424T060000Z
DTEND:20260424T070000Z
GEO:+37.989263;+23.752484
LOCATION:Αθήνα\, \nΕφετείο Αθηνών \nΛουκάρεως & Αλεξάνδρας \nΑμπελόκηποι \n
 (πλησίον ΜΕΤΡΟ Αμπελοκήπων)
SUMMARY:Συγκέντρωση για τα συλληφθεντα της πορείας για το κρατικό έγκλημα τ
 ης Πύλου
URL:https://www.kinimatorama.net/event/189750
END:VEVENT
END:VCALENDAR
