BEGIN:VCALENDAR
VERSION:2.0
PRODID:-//demosphere.net//NONSGML kigkonsult.se iCalcreator 2.22.1//
METHOD:REQUEST
X-WR-TIMEZONE:Europe/Athens
BEGIN:VEVENT
UID:https://www.kinimatorama.net/event/189752
DTSTAMP:20260425T180000Z
DESCRIPTION:περισσότερες πληροφορίες: https://www.kinimatorama.net/event/18
 9752 
DTSTART:20260425T180000Z
DTEND:20260425T190000Z
GEO:+37.984718;+23.734723
LOCATION:Αθήνα\, \nσημείο δολοφονίας Αλέξη Γρηγορόπουλου \nΜεσολογγίου & Τζ
 αβέλλα \nΕξάρχεια
SUMMARY:Rap live + Open mic για δικαστικά έξοδα
URL:https://www.kinimatorama.net/event/189752
END:VEVENT
END:VCALENDAR
