BEGIN:VCALENDAR
VERSION:2.0
PRODID:-//demosphere.net//NONSGML kigkonsult.se iCalcreator 2.22.1//
METHOD:REQUEST
X-WR-TIMEZONE:Europe/Athens
BEGIN:VEVENT
UID:https://www.kinimatorama.net/event/189755
DTSTAMP:20260514T170000Z
DESCRIPTION:περισσότερες πληροφορίες: https://www.kinimatorama.net/event/18
 9755 
DTSTART:20260514T170000Z
DTEND:20260514T180000Z
GEO:+40.559784;+22.98166
LOCATION:Θεσσαλονίκη\, \nΛητούς 16\, 55535\, (περιοχή ΙΚΕΑ) Πατριαρχικό Πυλ
 αίας\, τηλ: 23130 31154
SUMMARY:Τα όνειρα που μοιραζόμαστε
URL:https://www.kinimatorama.net/event/189755
END:VEVENT
END:VCALENDAR
