BEGIN:VCALENDAR
VERSION:2.0
PRODID:-//demosphere.net//NONSGML kigkonsult.se iCalcreator 2.22.1//
METHOD:REQUEST
X-WR-TIMEZONE:Europe/Athens
BEGIN:VEVENT
UID:https://www.kinimatorama.net/event/189756
DTSTAMP:20260422T190000Z
DESCRIPTION:περισσότερες πληροφορίες: https://www.kinimatorama.net/event/18
 9756 
DTSTART:20260422T190000Z
DTEND:20260422T200000Z
GEO:+40.638186;+22.944669
LOCATION:Θεσσαλονίκη\, \nΠολιτικός χώρος Διαρκή Αγώνα για την Ταξική Απελευ
 θέρωση\, \nΓκαρμπολά 12
SUMMARY:bar και γνωριμία με την ομάδα
URL:https://www.kinimatorama.net/event/189756
END:VEVENT
END:VCALENDAR
