BEGIN:VCALENDAR
VERSION:2.0
PRODID:-//demosphere.net//NONSGML kigkonsult.se iCalcreator 2.22.1//
METHOD:REQUEST
X-WR-TIMEZONE:Europe/Athens
BEGIN:VEVENT
UID:https://www.kinimatorama.net/event/189759
DTSTAMP:20260424T170000Z
DESCRIPTION:περισσότερες πληροφορίες: https://www.kinimatorama.net/event/18
 9759 
DTSTART:20260424T170000Z
DTEND:20260424T180000Z
GEO:+37.986895;+23.758663
LOCATION:Αθήνα\, \nStuΔio \nΥπόγειο Λ. Αλεξάνδρας 194Α \n(πλησίον σταθμού Μ
 ετρό ΑΜΠΕΛΟΚΗΠΟΙ)
SUMMARY:DIY Live Hardware Jam Οικονομικής Ενίσχυσης με Kyklosmekapa
URL:https://www.kinimatorama.net/event/189759
END:VEVENT
END:VCALENDAR
