BEGIN:VCALENDAR
VERSION:2.0
PRODID:-//demosphere.net//NONSGML kigkonsult.se iCalcreator 2.22.1//
METHOD:REQUEST
X-WR-TIMEZONE:Europe/Athens
BEGIN:VEVENT
UID:https://www.kinimatorama.net/event/189761
DTSTAMP:20260428T163000Z
DESCRIPTION:περισσότερες πληροφορίες: https://www.kinimatorama.net/event/18
 9761 
DTSTART:20260428T163000Z
DTEND:20260428T173000Z
GEO:+37.977573;+23.730646
LOCATION:Αθήνα\, \nΚτήριο TRISE \nΚολοκοτρώνη 31
SUMMARY:Βιβλιοπαρουσίαση «Η Τραγωδία της Καραγκάντα»: Ισπανοί αντιφασίστες 
 στα γκούλαγκ
URL:https://www.kinimatorama.net/event/189761
END:VEVENT
END:VCALENDAR
