BEGIN:VCALENDAR
VERSION:2.0
PRODID:-//demosphere.net//NONSGML kigkonsult.se iCalcreator 2.22.1//
METHOD:REQUEST
X-WR-TIMEZONE:Europe/Athens
BEGIN:VEVENT
UID:https://www.kinimatorama.net/event/189762
DTSTAMP:20260507T170000Z
DESCRIPTION:περισσότερες πληροφορίες: https://www.kinimatorama.net/event/18
 9762 
DTSTART:20260507T170000Z
DTEND:20260507T180000Z
GEO:+40.638397;+22.946565
LOCATION:Θεσσαλονίκη\, \nΠάρκο Εργατικού Κέντρου Θεσσαλονίκης \nΑριστοτέλου
 ς με Ολύμπου
SUMMARY:Cocktail Bar οικονομικής ενίσχυσης
URL:https://www.kinimatorama.net/event/189762
END:VEVENT
END:VCALENDAR
