BEGIN:VCALENDAR
VERSION:2.0
PRODID:-//demosphere.net//NONSGML kigkonsult.se iCalcreator 2.22.1//
METHOD:REQUEST
X-WR-TIMEZONE:Europe/Athens
BEGIN:VEVENT
UID:https://www.kinimatorama.net/event/189765
DTSTAMP:20260425T180000Z
DESCRIPTION:περισσότερες πληροφορίες: https://www.kinimatorama.net/event/18
 9765 
DTSTART:20260425T180000Z
DTEND:20260425T190000Z
GEO:+40.638397;+22.946565
LOCATION:Θεσσαλονίκη\, \nΠάρκο Εργατικού Κέντρου Θεσσαλονίκης \nΑριστοτέλου
 ς με Ολύμπου
SUMMARY:Λαϊκό Γλέντι με πολιτικό τραγούδι
URL:https://www.kinimatorama.net/event/189765
END:VEVENT
END:VCALENDAR
